Package: netboxr Version: 1.11.1 Command: /home/biocbuild/bbs-3.18-bioc/R/bin/R CMD check --install=check:netboxr.install-out.txt --library=/home/biocbuild/bbs-3.18-bioc/R/site-library --timings netboxr_1.11.1.tar.gz StartedAt: 2023-04-20 08:26:49 -0400 (Thu, 20 Apr 2023) EndedAt: 2023-04-20 08:26:54 -0400 (Thu, 20 Apr 2023) EllapsedTime: 5.3 seconds RetCode: 1 Status: ERROR CheckDir: netboxr.Rcheck Warnings: NA