Package: netboxr Version: 1.11.1 Command: /home/biocbuild/bbs-3.18-bioc/R/bin/R CMD INSTALL netboxr StartedAt: 2023-04-20 03:48:45 -0400 (Thu, 20 Apr 2023) EndedAt: 2023-04-20 03:49:08 -0400 (Thu, 20 Apr 2023) EllapsedTime: 23.2 seconds RetCode: 0 Status: OK