Package: netprioR Version: 1.28.0 Command: /home/biocbuild/R/R-4.3.1/bin/R CMD build --keep-empty-dirs --no-resave-data netprioR StartedAt: 2023-11-02 04:02:25 -0000 (Thu, 02 Nov 2023) EndedAt: 2023-11-02 04:03:32 -0000 (Thu, 02 Nov 2023) EllapsedTime: 67.1 seconds RetCode: 0 Status: OK PackageFile: netprioR_1.28.0.tar.gz PackageFileSize: 539.9 KiB