Package: netprioR Version: 1.28.0 Command: rm -rf netprioR.buildbin-libdir && mkdir netprioR.buildbin-libdir && F:\biocbuild\bbs-3.18-bioc\R\bin\R.exe CMD INSTALL --build --library=netprioR.buildbin-libdir netprioR_1.28.0.tar.gz StartedAt: 2024-04-16 07:22:08 -0400 (Tue, 16 Apr 2024) EndedAt: 2024-04-16 07:22:26 -0400 (Tue, 16 Apr 2024) EllapsedTime: 18.3 seconds RetCode: 0 Status: OK PackageFile: netprioR_1.28.0.zip PackageFileSize: 605.6 KiB