Package: nnNorm Version: 2.66.0 Command: /home/biocbuild/R/R-4.3.1/bin/R CMD build --keep-empty-dirs --no-resave-data nnNorm StartedAt: 2023-11-02 04:05:17 -0000 (Thu, 02 Nov 2023) EndedAt: 2023-11-02 04:05:57 -0000 (Thu, 02 Nov 2023) EllapsedTime: 40.1 seconds RetCode: 0 Status: OK PackageFile: nnNorm_2.66.0.tar.gz PackageFileSize: 1.583 MiB