Package: nnNorm Version: 2.66.0 Command: /Library/Frameworks/R.framework/Resources/bin/R CMD build --keep-empty-dirs --no-resave-data nnNorm StartedAt: 2024-03-03 17:36:34 -0500 (Sun, 03 Mar 2024) EndedAt: 2024-03-03 17:37:14 -0500 (Sun, 03 Mar 2024) EllapsedTime: 40.5 seconds RetCode: 0 Status: OK PackageFile: nnNorm_2.66.0.tar.gz PackageFileSize: 1.589 MiB