Package: nnNorm Version: 2.66.0 Command: /Library/Frameworks/R.framework/Resources/bin/R CMD INSTALL nnNorm StartedAt: 2024-04-15 15:10:35 -0400 (Mon, 15 Apr 2024) EndedAt: 2024-04-15 15:11:03 -0400 (Mon, 15 Apr 2024) EllapsedTime: 27.9 seconds RetCode: 0 Status: OK