Package: nnNorm Version: 2.66.0 Command: /home/biocbuild/bbs-3.18-bioc/R/bin/R CMD INSTALL nnNorm StartedAt: 2024-04-15 15:10:03 -0400 (Mon, 15 Apr 2024) EndedAt: 2024-04-15 15:10:22 -0400 (Mon, 15 Apr 2024) EllapsedTime: 19.1 seconds RetCode: 0 Status: OK