Package: nnSVG Version: 1.6.0 Command: /Library/Frameworks/R.framework/Resources/bin/R CMD check --install=check:nnSVG.install-out.txt --library=/Library/Frameworks/R.framework/Resources/library --no-vignettes --timings nnSVG_1.6.0.tar.gz StartedAt: 2024-03-03 22:12:29 -0500 (Sun, 03 Mar 2024) EndedAt: 2024-03-03 22:20:00 -0500 (Sun, 03 Mar 2024) EllapsedTime: 451.0 seconds RetCode: 0 Status: OK CheckDir: nnSVG.Rcheck Warnings: 0