Package: nnSVG Version: 1.6.4 Command: /home/biocbuild/bbs-3.18-bioc/R/bin/R CMD check --install=check:nnSVG.install-out.txt --library=/home/biocbuild/bbs-3.18-bioc/R/site-library --timings nnSVG_1.6.4.tar.gz StartedAt: 2024-04-16 01:33:54 -0400 (Tue, 16 Apr 2024) EndedAt: 2024-04-16 01:57:12 -0400 (Tue, 16 Apr 2024) EllapsedTime: 1397.4 seconds RetCode: 0 Status: OK CheckDir: nnSVG.Rcheck Warnings: 0