Package: nuCpos Version: 1.20.0 Command: /home/biocbuild/R/R-4.3.1/bin/R CMD build --keep-empty-dirs --no-resave-data nuCpos StartedAt: 2023-11-02 04:08:38 -0000 (Thu, 02 Nov 2023) EndedAt: 2023-11-02 04:08:51 -0000 (Thu, 02 Nov 2023) EllapsedTime: 13.0 seconds RetCode: 0 Status: OK PackageFile: nuCpos_1.20.0.tar.gz PackageFileSize: 2.385 MiB