Package: nuCpos Version: 1.20.0 Command: /home/biocbuild/R/R-4.3.1/bin/R CMD INSTALL nuCpos StartedAt: 2023-11-01 20:04:09 -0000 (Wed, 01 Nov 2023) EndedAt: 2023-11-01 20:04:24 -0000 (Wed, 01 Nov 2023) EllapsedTime: 15.0 seconds RetCode: 0 Status: OK