Package: nuCpos Version: 1.20.0 Command: rm -rf nuCpos.buildbin-libdir && mkdir nuCpos.buildbin-libdir && /Users/biocbuild/BBS/utils/build-universal.sh nuCpos_1.20.0.tar.gz /Library/Frameworks/R.framework/Resources/bin/R nuCpos.buildbin-libdir StartedAt: 2024-03-04 00:54:09 -0500 (Mon, 04 Mar 2024) EndedAt: 2024-03-04 00:54:21 -0500 (Mon, 04 Mar 2024) EllapsedTime: 12.7 seconds RetCode: 0 Status: OK PackageFile: nuCpos_1.20.0.tgz PackageFileSize: 1.712 MiB