Package: nuCpos Version: 1.20.0 Command: /Library/Frameworks/R.framework/Resources/bin/R CMD build --keep-empty-dirs --no-resave-data nuCpos StartedAt: 2024-03-03 17:37:35 -0500 (Sun, 03 Mar 2024) EndedAt: 2024-03-03 17:37:54 -0500 (Sun, 03 Mar 2024) EllapsedTime: 19.2 seconds RetCode: 0 Status: OK PackageFile: nuCpos_1.20.0.tar.gz PackageFileSize: 2.392 MiB