Package: nuCpos Version: 1.20.0 Command: rm -rf nuCpos.buildbin-libdir && mkdir nuCpos.buildbin-libdir && /Users/biocbuild/BBS/utils/build-universal.sh nuCpos_1.20.0.tar.gz /Library/Frameworks/R.framework/Resources/bin/R nuCpos.buildbin-libdir StartedAt: 2024-04-16 12:20:48 -0400 (Tue, 16 Apr 2024) EndedAt: 2024-04-16 12:21:02 -0400 (Tue, 16 Apr 2024) EllapsedTime: 14.2 seconds RetCode: 0 Status: OK PackageFile: nuCpos_1.20.0.tgz PackageFileSize: 1.712 MiB