Package: nullranges Version: 1.8.0 Command: /Library/Frameworks/R.framework/Resources/bin/R CMD build --keep-empty-dirs --no-resave-data nullranges StartedAt: 2024-03-03 17:37:37 -0500 (Sun, 03 Mar 2024) EndedAt: 2024-03-03 17:40:26 -0500 (Sun, 03 Mar 2024) EllapsedTime: 168.9 seconds RetCode: 0 Status: OK PackageFile: nullranges_1.8.0.tar.gz PackageFileSize: 4.639 MiB