Package: occugene Version: 1.62.0 Command: /Library/Frameworks/R.framework/Resources/bin/R CMD INSTALL occugene StartedAt: 2024-04-15 15:08:41 -0400 (Mon, 15 Apr 2024) EndedAt: 2024-04-15 15:09:04 -0400 (Mon, 15 Apr 2024) EllapsedTime: 23.3 seconds RetCode: 0 Status: OK