Package: octad Version: 1.4.0 Command: /Library/Frameworks/R.framework/Resources/bin/R CMD INSTALL octad StartedAt: 2024-04-15 16:42:18 -0400 (Mon, 15 Apr 2024) EndedAt: 2024-04-15 16:44:21 -0400 (Mon, 15 Apr 2024) EllapsedTime: 123.6 seconds RetCode: 0 Status: OK