Package: oligo Version: 1.66.0 Command: /home/biocbuild/R/R-4.3.1/bin/R CMD build --keep-empty-dirs --no-resave-data oligo StartedAt: 2023-11-02 04:10:07 -0000 (Thu, 02 Nov 2023) EndedAt: 2023-11-02 04:10:56 -0000 (Thu, 02 Nov 2023) EllapsedTime: 49.1 seconds RetCode: 0 Status: OK PackageFile: oligo_1.66.0.tar.gz PackageFileSize: 27.1 MiB