Package: oligo Version: 1.66.0 Command: /home/biocbuild/R/R-4.3.1/bin/R CMD check --install=check:oligo.install-out.txt --library=/home/biocbuild/R/R-4.3.1/site-library --no-vignettes --timings oligo_1.66.0.tar.gz StartedAt: 2023-11-02 12:45:34 -0000 (Thu, 02 Nov 2023) EndedAt: 2023-11-02 12:52:33 -0000 (Thu, 02 Nov 2023) EllapsedTime: 418.6 seconds RetCode: 1 Status: ERROR CheckDir: oligo.Rcheck Warnings: NA