Package: oligo Version: 1.66.0 Command: rm -rf oligo.buildbin-libdir && mkdir oligo.buildbin-libdir && /Users/biocbuild/BBS/utils/build-universal.sh oligo_1.66.0.tar.gz /Library/Frameworks/R.framework/Resources/bin/R oligo.buildbin-libdir StartedAt: 2024-03-04 00:54:17 -0500 (Mon, 04 Mar 2024) EndedAt: 2024-03-04 00:55:17 -0500 (Mon, 04 Mar 2024) EllapsedTime: 60.2 seconds RetCode: 0 Status: OK PackageFile: oligo_1.66.0.tgz PackageFileSize: 27.86 MiB