Package: oligo Version: 1.66.0 Command: /Library/Frameworks/R.framework/Resources/bin/R CMD check --install=check:oligo.install-out.txt --library=/Library/Frameworks/R.framework/Resources/library --no-vignettes --timings oligo_1.66.0.tar.gz StartedAt: 2024-03-03 22:15:26 -0500 (Sun, 03 Mar 2024) EndedAt: 2024-03-03 22:21:53 -0500 (Sun, 03 Mar 2024) EllapsedTime: 387.0 seconds RetCode: 0 Status: WARNINGS CheckDir: oligo.Rcheck Warnings: 6