Package: oligo Version: 1.66.0 Command: rm -rf oligo.buildbin-libdir && mkdir oligo.buildbin-libdir && /Users/biocbuild/BBS/utils/build-universal.sh oligo_1.66.0.tar.gz /Library/Frameworks/R.framework/Resources/bin/R oligo.buildbin-libdir StartedAt: 2024-04-16 12:21:01 -0400 (Tue, 16 Apr 2024) EndedAt: 2024-04-16 12:22:28 -0400 (Tue, 16 Apr 2024) EllapsedTime: 87.2 seconds RetCode: 0 Status: OK PackageFile: oligo_1.66.0.tgz PackageFileSize: 27.86 MiB