Package: oligo Version: 1.66.0 Command: /home/biocbuild/bbs-3.18-bioc/R/bin/R CMD build --keep-empty-dirs --no-resave-data oligo StartedAt: 2024-04-15 18:16:14 -0400 (Mon, 15 Apr 2024) EndedAt: 2024-04-15 18:17:09 -0400 (Mon, 15 Apr 2024) EllapsedTime: 55.5 seconds RetCode: 0 Status: OK PackageFile: oligo_1.66.0.tar.gz PackageFileSize: 27.1 MiB