Package: oligo Version: 1.66.0 Command: chmod a+r oligo -R && F:\biocbuild\bbs-3.18-bioc\R\bin\R.exe CMD build --keep-empty-dirs --no-resave-data oligo StartedAt: 2024-04-15 19:57:04 -0400 (Mon, 15 Apr 2024) EndedAt: 2024-04-15 19:58:09 -0400 (Mon, 15 Apr 2024) EllapsedTime: 65.4 seconds RetCode: 0 Status: OK PackageFile: oligo_1.66.0.tar.gz PackageFileSize: 27.1 MiB