Package: omicsViewer Version: 1.6.0 Command: /Library/Frameworks/R.framework/Resources/bin/R CMD INSTALL omicsViewer StartedAt: 2024-03-03 15:43:00 -0500 (Sun, 03 Mar 2024) EndedAt: 2024-03-03 15:43:45 -0500 (Sun, 03 Mar 2024) EllapsedTime: 45.4 seconds RetCode: 0 Status: OK