Package: omicsViewer Version: 1.6.0 Command: /home/biocbuild/bbs-3.18-bioc/R/bin/R CMD check --install=check:omicsViewer.install-out.txt --library=/home/biocbuild/bbs-3.18-bioc/R/site-library --timings omicsViewer_1.6.0.tar.gz StartedAt: 2024-04-16 01:44:21 -0400 (Tue, 16 Apr 2024) EndedAt: 2024-04-16 01:52:10 -0400 (Tue, 16 Apr 2024) EllapsedTime: 468.1 seconds RetCode: 0 Status: OK CheckDir: omicsViewer.Rcheck Warnings: 0