Package: onlineFDR Version: 2.10.0 Command: /home/biocbuild/R/R-4.3.1/bin/R CMD build --keep-empty-dirs --no-resave-data onlineFDR StartedAt: 2023-11-02 04:15:02 -0000 (Thu, 02 Nov 2023) EndedAt: 2023-11-02 04:16:53 -0000 (Thu, 02 Nov 2023) EllapsedTime: 110.1 seconds RetCode: 0 Status: OK PackageFile: onlineFDR_2.10.0.tar.gz PackageFileSize: 1.92 MiB