Package: onlineFDR Version: 2.10.0 Command: /home/biocbuild/R/R-4.3.1/bin/R CMD INSTALL onlineFDR StartedAt: 2023-11-01 20:06:14 -0000 (Wed, 01 Nov 2023) EndedAt: 2023-11-01 20:08:14 -0000 (Wed, 01 Nov 2023) EllapsedTime: 119.6 seconds RetCode: 0 Status: OK