Package: onlineFDR Version: 2.10.0 Command: /Library/Frameworks/R.framework/Resources/bin/R CMD INSTALL onlineFDR StartedAt: 2024-04-15 15:06:47 -0400 (Mon, 15 Apr 2024) EndedAt: 2024-04-15 15:08:34 -0400 (Mon, 15 Apr 2024) EllapsedTime: 106.8 seconds RetCode: 0 Status: OK