Package: onlineFDR Version: 2.10.0 Command: /home/biocbuild/bbs-3.18-bioc/R/bin/R CMD build --keep-empty-dirs --no-resave-data onlineFDR StartedAt: 2024-04-15 18:19:42 -0400 (Mon, 15 Apr 2024) EndedAt: 2024-04-15 18:21:15 -0400 (Mon, 15 Apr 2024) EllapsedTime: 93.2 seconds RetCode: 0 Status: OK PackageFile: onlineFDR_2.10.0.tar.gz PackageFileSize: 1.917 MiB