Package: onlineFDR Version: 2.10.0 Command: rm -rf onlineFDR.buildbin-libdir && mkdir onlineFDR.buildbin-libdir && F:\biocbuild\bbs-3.18-bioc\R\bin\R.exe CMD INSTALL --build --library=onlineFDR.buildbin-libdir onlineFDR_2.10.0.tar.gz StartedAt: 2024-04-16 07:23:43 -0400 (Tue, 16 Apr 2024) EndedAt: 2024-04-16 07:25:24 -0400 (Tue, 16 Apr 2024) EllapsedTime: 101.4 seconds RetCode: 0 Status: OK PackageFile: onlineFDR_2.10.0.zip PackageFileSize: 1.598 MiB