Package: onlineFDR Version: 2.10.0 Command: chmod a+r onlineFDR -R && F:\biocbuild\bbs-3.18-bioc\R\bin\R.exe CMD build --keep-empty-dirs --no-resave-data onlineFDR StartedAt: 2024-04-15 20:00:01 -0400 (Mon, 15 Apr 2024) EndedAt: 2024-04-15 20:01:22 -0400 (Mon, 15 Apr 2024) EllapsedTime: 80.9 seconds RetCode: 0 Status: OK PackageFile: onlineFDR_2.10.0.tar.gz PackageFileSize: 1.913 MiB