Package: openCyto Version: 2.14.0 Maintainer: Mike Jiang MaintainerEmail: mike at ozette.com git_url: https://git.bioconductor.org/packages/openCyto git_branch: RELEASE_3_18 git_last_commit: 4b6c714 git_last_commit_date: 2023-10-24 09:56:24 -0400 (Tue, 24 Oct 2023)