Package: openPrimeR Version: 1.24.0 Maintainer: Matthias Döring MaintainerEmail: matthias-doering at gmx.de git_url: https://git.bioconductor.org/packages/openPrimeR git_branch: RELEASE_3_18 git_last_commit: f7bca2f git_last_commit_date: 2023-10-24 10:59:40 -0400 (Tue, 24 Oct 2023)