Package: openPrimeR Version: 1.24.0 Command: rm -rf openPrimeR.buildbin-libdir && mkdir openPrimeR.buildbin-libdir && F:\biocbuild\bbs-3.18-bioc\R\bin\R.exe CMD INSTALL --build --library=openPrimeR.buildbin-libdir openPrimeR_1.24.0.tar.gz StartedAt: 2024-04-16 07:23:48 -0400 (Tue, 16 Apr 2024) EndedAt: 2024-04-16 07:24:37 -0400 (Tue, 16 Apr 2024) EllapsedTime: 48.7 seconds RetCode: 0 Status: OK PackageFile: openPrimeR_1.24.0.zip PackageFileSize: 2.727 MiB