Package: openPrimeR Version: 1.24.0 Command: chmod a+r openPrimeR -R && F:\biocbuild\bbs-3.18-bioc\R\bin\R.exe CMD build --keep-empty-dirs --no-resave-data openPrimeR StartedAt: 2024-04-15 20:00:13 -0400 (Mon, 15 Apr 2024) EndedAt: 2024-04-15 20:02:02 -0400 (Mon, 15 Apr 2024) EllapsedTime: 109.6 seconds RetCode: 0 Status: OK PackageFile: openPrimeR_1.24.0.tar.gz PackageFileSize: 1.783 MiB