Package: oppar Version: 1.30.0 Command: /Library/Frameworks/R.framework/Resources/bin/R CMD INSTALL oppar StartedAt: 2024-03-03 15:39:31 -0500 (Sun, 03 Mar 2024) EndedAt: 2024-03-03 15:40:26 -0500 (Sun, 03 Mar 2024) EllapsedTime: 55.1 seconds RetCode: 0 Status: OK