Package: optimalFlow Version: 1.14.0 Command: /home/biocbuild/R/R-4.3.1/bin/R CMD build --keep-empty-dirs --no-resave-data optimalFlow StartedAt: 2023-11-02 04:18:22 -0000 (Thu, 02 Nov 2023) EndedAt: 2023-11-02 04:25:08 -0000 (Thu, 02 Nov 2023) EllapsedTime: 406.3 seconds RetCode: 0 Status: OK PackageFile: optimalFlow_1.14.0.tar.gz PackageFileSize: 1.265 MiB