Package: optimalFlow Version: 1.14.0 Command: /Library/Frameworks/R.framework/Resources/bin/R CMD INSTALL optimalFlow StartedAt: 2024-03-03 15:23:47 -0500 (Sun, 03 Mar 2024) EndedAt: 2024-03-03 15:24:09 -0500 (Sun, 03 Mar 2024) EllapsedTime: 22.1 seconds RetCode: 0 Status: OK