Package: packFinder Version: 1.14.0 Command: /Library/Frameworks/R.framework/Resources/bin/R CMD INSTALL packFinder StartedAt: 2024-03-03 15:27:49 -0500 (Sun, 03 Mar 2024) EndedAt: 2024-03-03 15:27:54 -0500 (Sun, 03 Mar 2024) EllapsedTime: 4.9 seconds RetCode: 0 Status: OK