Package: packFinder Version: 1.14.0 Command: /Library/Frameworks/R.framework/Resources/bin/R CMD build --keep-empty-dirs --no-resave-data packFinder StartedAt: 2024-04-15 20:40:55 -0400 (Mon, 15 Apr 2024) EndedAt: 2024-04-15 20:41:31 -0400 (Mon, 15 Apr 2024) EllapsedTime: 35.0 seconds RetCode: 0 Status: OK PackageFile: packFinder_1.14.0.tar.gz PackageFileSize: 1.132 MiB