Package: pageRank
Version: 1.12.0
Command: /Library/Frameworks/R.framework/Resources/bin/R CMD INSTALL pageRank
StartedAt: 2024-04-15 15:40:41 -0400 (Mon, 15 Apr 2024)
EndedAt: 2024-04-15 15:42:01 -0400 (Mon, 15 Apr 2024)
EllapsedTime: 80.3 seconds
RetCode: 0
Status: OK