Package: paircompviz Version: 1.40.0 Command: /Library/Frameworks/R.framework/Resources/bin/R CMD INSTALL paircompviz StartedAt: 2024-04-15 15:11:01 -0400 (Mon, 15 Apr 2024) EndedAt: 2024-04-15 15:11:22 -0400 (Mon, 15 Apr 2024) EllapsedTime: 21.2 seconds RetCode: 0 Status: OK