Package: paircompviz Version: 1.40.0 Command: chmod a+r paircompviz -R && F:\biocbuild\bbs-3.18-bioc\R\bin\R.exe CMD build --keep-empty-dirs --no-resave-data paircompviz StartedAt: 2024-04-15 20:06:57 -0400 (Mon, 15 Apr 2024) EndedAt: 2024-04-15 20:07:29 -0400 (Mon, 15 Apr 2024) EllapsedTime: 32.5 seconds RetCode: 0 Status: OK PackageFile: paircompviz_1.40.0.tar.gz PackageFileSize: 356.3 KiB