Package: pairedGSEA Version: 1.2.0 Command: /Library/Frameworks/R.framework/Resources/bin/R CMD check --install=check:pairedGSEA.install-out.txt --library=/Library/Frameworks/R.framework/Resources/library --no-vignettes --timings pairedGSEA_1.2.0.tar.gz StartedAt: 2024-03-03 22:24:33 -0500 (Sun, 03 Mar 2024) EndedAt: 2024-03-03 22:34:01 -0500 (Sun, 03 Mar 2024) EllapsedTime: 567.9 seconds RetCode: 0 Status: OK CheckDir: pairedGSEA.Rcheck Warnings: 0