Package: pairedGSEA Version: 1.2.0 Command: /Library/Frameworks/R.framework/Resources/bin/R CMD INSTALL pairedGSEA StartedAt: 2024-03-03 15:36:37 -0500 (Sun, 03 Mar 2024) EndedAt: 2024-03-03 15:37:26 -0500 (Sun, 03 Mar 2024) EllapsedTime: 49.2 seconds RetCode: 0 Status: OK