Package: pairedGSEA Version: 1.2.0 Command: rm -rf pairedGSEA.buildbin-libdir && mkdir pairedGSEA.buildbin-libdir && /Users/biocbuild/BBS/utils/build-universal.sh pairedGSEA_1.2.0.tar.gz /Library/Frameworks/R.framework/Resources/bin/R pairedGSEA.buildbin-libdir StartedAt: 2024-04-16 12:23:12 -0400 (Tue, 16 Apr 2024) EndedAt: 2024-04-16 12:24:30 -0400 (Tue, 16 Apr 2024) EllapsedTime: 78.5 seconds RetCode: 0 Status: OK PackageFile: pairedGSEA_1.2.0.tgz PackageFileSize: 651.1 KiB