Package: pairedGSEA Version: 1.2.0 Command: rm -rf pairedGSEA.buildbin-libdir && mkdir pairedGSEA.buildbin-libdir && F:\biocbuild\bbs-3.18-bioc\R\bin\R.exe CMD INSTALL --build --library=pairedGSEA.buildbin-libdir pairedGSEA_1.2.0.tar.gz StartedAt: 2024-04-16 07:24:46 -0400 (Tue, 16 Apr 2024) EndedAt: 2024-04-16 07:25:36 -0400 (Tue, 16 Apr 2024) EllapsedTime: 49.5 seconds RetCode: 0 Status: OK PackageFile: pairedGSEA_1.2.0.zip PackageFileSize: 570.9 KiB