Package: pairedGSEA Version: 1.2.0 Command: chmod a+r pairedGSEA -R && F:\biocbuild\bbs-3.18-bioc\R\bin\R.exe CMD build --keep-empty-dirs --no-resave-data pairedGSEA StartedAt: 2024-04-15 20:07:04 -0400 (Mon, 15 Apr 2024) EndedAt: 2024-04-15 20:09:45 -0400 (Mon, 15 Apr 2024) EllapsedTime: 161.4 seconds RetCode: 0 Status: OK PackageFile: pairedGSEA_1.2.0.tar.gz PackageFileSize: 519.2 KiB